Workbook
Name PercentualConcluído: PercentualConcluídoAlém*PeríodonoPlano
Name PercentualConcluídoAlém: (Metas!A$5=MEDIAN(Metas!A$5,Metas!#REF!,Metas!#REF!+Metas!#REF!)*(Metas!#REF!>0))*((Metas!A$5<(INT(Metas!#REF!+Metas!#REF!*Metas!#REF!)))+(Metas!A$5=Metas!#REF!))*(Metas!#REF!>0)
Name período_selecionado: Metas!$E$3
Name PeríodonoPlano: Metas!A$5=MEDIAN(Metas!A$5,Metas!$C1,Metas!$C1+Metas!$D1-1)
Name PeríodoReal: Metas!A$5=MEDIAN(Metas!A$5,Metas!#REF!,Metas!#REF!+Metas!#REF!-1)
Name Plano: PeríodonoPlano*(Metas!$C1>0)
Name Real: (PeríodoReal*(Metas!#REF!>0))*PeríodonoPlano
Name RealAlém: PeríodoReal*(Metas!#REF!>0)
Name RegiãodoTítulo..BO60: Metas!$B$4:$B$5

Sheet Identificação
C3: Plano Pessoal de Formação (PPF)
B5: Identificação do Assessorado | J5: campo a ser escondido
B6: Nome do Assessorado: | C6: Digite seu nome na aba de identificação | L6: Preliminar | M6: Chefe de Seção
B7: Unidade Escoteira Local: | C7: Nome do GE | D7: Nome da Seção: | E7: Nome da seção | J7: Escotista | K7: Lobinho | L7: Intermediário | M7: Assistente
B8: Linha de formação: | C8: Escotista | D8: Ramo/Área de atuação: | J8: Dirigente | K8: Escoteiro | L8: Avançado | M8: Diretor eleito
B9: Nível em desenvolvimento *: | C9: Intermediário | D9: Função atual**: | E9: CHEFE DE ALCATEIA | J9: Escotista e Dirigente | K9: Sênior | M9: Diretor nomeado
B10: * De acordo com sua rota de aprendizagem | D10: ** De acordo com o manual de cargos e funções em nível Local | K10: Pioneiro
B11: Caso você tenha uma 2ª Função | K11: Dirigente-Administrativo Financeira
B12: 2º Linha de formação: | D12: Ramo/Area de Atuação: | K12: Dirigente-Gestão Institucional | M12: A
K13: Dirigente-Métodos Educativos
B14: Assessor Pessoal de Formação | K14: Adulto voluntário
B15: Nome do APF: | C15: Digite o nome do seu APF na aba de identificação
B16: Linha de formação do APF: | D16: Ramo/Área de atuação:
B17: Unidade Escoteira Local: | C17: Nome do GE do APF | D17: Nome da Seção:
B18: Nível de formação concluído: | D18: Função atual*:
B19: * Escreva de acordo com o manual de cargos e funções no nível de atuação do seu APF
E20: ®Desenvolvido pela Equipe Nacional de Competências
J21: CHEFE DE ALCATEIA
J22: ASSISTENTE DE ALCATEIA
J23: CHEFE DE TROPA ESCOTEIRA
J24: ASSISTENTE DE TROPA ESCOTEIRA
J25: CHEFE DE TROPA SÊNIOR/GUIA
J26: ASSISTÊNTE DE TROPA SÊNIOR/GUIA
J27: CHEFE DE CLÃ PIONEIRO-MESTRE PIONEIRO
J28: ASSISTENTE DE CLÃ PIONEIRO
J29: DIRETOR PRESIDENTE DE GE
J30: DIRETOR DE MÉTODOS EDUCATIVOS
J31: DIRETOR FINANCEIRO
J32: DIRETOR ADMINISTRATIVO
... J38: Outro cargo/função
A100: senha: teste

Sheet Instruções
B2: =CONCATENATE("Seja bem vindo ",Identificação!C6," ",Identificação!E9," do GE ",Identificação!C7) -> Seja bem vindo Digite seu nome na aba de identificação CHEFE DE ALCATEIA do GE Nome do GE
C3: Plano Pessoal de Formação (PPF)
B5: Como utilizar o PPF?
B7: Esse modelo de Plano Pessoal de Formação (PPF) auxilia os adultos em constante desenvolvimento e seus APFs a conversar, avaliar comunicar, acompanhar e mensurar metas e objetivos de desenvolvimento colaborativamente. Utilize este modelo como referência, adeque-o as suas necessidades. A aba "INÍCIO" é onde todas as metas e prazos serão colocadas. As outras abas serão preenchidas automaticamente a partir dessa informação. Utilize cada aba de "Avaliação Trimestral" para anotações sobre as percepções desenvolvidas durante suas reuniões de avaliação.
B9: Objetivos dinâmicos "SMART"
B11: Ao definir os objetivos para qualquer área deste PPF, tenha certeza que eles sejam Específicos, Mensuráveis, Atingíveis, Realistas e possuam Prazo. Isso irá auxiliá-lo a mensurar os resultados de forma efetiva. Tem alguma dúvida? Converse com o seu APF e consulte os manuais de Competências e Rotas de Aprendizagem.
B13: Detalhamento
B15: Esse PPF pode ser utilizado com diversos níveis de detalhamento. Da forma que está na planilha, permite você criar metas mensais para cada objetivo para o período de um ano. Contudo, você pode utiliza-lo para medir apenas metas trimestrais, semestrais ou anuais. Adeque-o as suas necessidades, de acordo com o estabelecido dentro do seu Ciclo de vida de Adulto.
B17: Metas
B19: Para que seus objetivos, se transformem em metas conforme descrito anteriormente ele precisa ser Mensuráveis, Atingíveis, Realistas e possuam Prazo, desta forma, foi criado uma representação gráfica, para facilitar o inicio e duração prevista para conclusão de cada objetivo.
B22: Avaliação
B24: A forma que esse PPF foi planejado, permite que os envolvidos no processo possam verificar o desenvolvimento mensalmente. Caso esse período seja muito extenso ou muito curto para suas necessidades, edite-o para que adeque-se a sua realidade. Independente da sua escolha, é importante que ele seja salvo em um local acessível facilitando a sua consulta.

Sheet Início
C2: =Identificação!$C$6 -> Digite seu nome na aba de identificação
C3: Plano Pessoal de Formação (PPF)
C4: 1º Trimestre | F4: 2º Trimestre | I4: 3º Trimestre | L4: 4º Trimestre
B5: Substituir pelos meses do plano-----> | C5: Mês1 | D5: Mês 2 | E5: Mês 3 | F5: Mês 4 | G5: Mês 5 | H5: Mês 6 | I5: Mês 7 | J5: Mês 8 | K5: Mês 9 | L5: Mês 10 | M5: Mês 11 | N5: Mês 12
B6: Reuniões e avaliações | C6: Datas | F6: Datas | I6: Datas | L6: Datas
B7: Reuniões de planejamento
B8: Avaliação 1º trimestre
B9: Avaliação 2º trimestre / semestre
B10: Avaliação 3º trimestre
B11: Avaliação anual
B12: Objetivos da UEL | C12: Ações | F12: Ações | I12: Ações | L12: Ações
B13: 1- Escreva na aba início o objetivo da UEL
B14: 2- Escreva na aba início o objetivo da UEL
B15: 3- Escreva na aba início o objetivo da UEL
B16: Competências a desenvolver | C16: Ações | F16: Ações | I16: Ações | L16: Ações
B17: 3- Escreva na aba início a Competência a desenvolver
B18: 4- Escreva na aba início a Competência a desenvolver
B19: 5- Escreva na aba início a Competência a desenvolver
B20: Objetivos Pessoais | C20: Ações | F20: Ações | I20: Ações | L20: Ações
B21: 6- Escreva na aba início o objetivo pessoais
B22: 7- Escreva na aba início o objetivo pessoais
B23: 8- Escreva na aba início o objetivo pessoais

Sheet Metas
AG1: =Identificação!$C$6 -> Digite seu nome na aba de identificação
C2: Plano Pessoal de Formação
B4: Objetivos do PPF | C4: Início do Objetivo | D4: Duração prevista para ação | E4: 1º Trimestre | R4: 2º Trimestre | AE4: 3º Trimestre | AR4: 4º Trimestre
E5: 1 | F5: 2 | G5: 3 | H5: 4 | I5: 5 | J5: 6 | K5: 7 | L5: 8 | M5: 9 | N5: 10 | O5: 11 | P5: 12 | Q5: 13 | R5: 14 | S5: 15 | T5: 16 | U5: 17 | V5: 18 | W5: 19 | X5: 20 | Y5: 21 | Z5: 22 | AA5: 23 | AB5: 24 | AC5: 25 | AD5: 26 | AE5: 27 | AF5: 28 | AG5: 29 | AH5: 30 | AI5: 31 | AJ5: 32 | AK5: 33 | AL5: 34 | AM5: 35 | AN5: 36 | AO5: 37 | AP5: 38 | AQ5: 39 | AR5: 40 | AS5: 41 | AT5: 42 | AU5: 43 | AV5: 44 | AW5: 45 | AX5: 46 | AY5: 47 | AZ5: 48 | BA5: 49 | BB5: 50 | BC5: 51 | BD5: 52
B6: =Início!B12 -> Objetivos da UEL
B7: =Início!B13 -> 1- Escreva na aba início o objetivo da UEL | C7: 1 | D7: 2
B8: =Início!B14 -> 2- Escreva na aba início o objetivo da UEL | C8: 2 | D8: 4
B9: =Início!B15 -> 3- Escreva na aba início o objetivo da UEL | C9: 3 | D9: 6
B10: =Início!B16 -> Competências a desenvolver
B11: =Início!B17 -> 3- Escreva na aba início a Competência a desenvolver | C11: 4 | D11: 8
B12: =Início!B18 -> 4- Escreva na aba início a Competência a desenvolver | C12: 5 | D12: 10
B13: =Início!B19 -> 5- Escreva na aba início a Competência a desenvolver | C13: 6 | D13: 12
B14: =Início!B20 -> Objetivos Pessoais
B15: =Início!B21 -> 6- Escreva na aba início o objetivo pessoais | C15: 7 | D15: 14
B16: =Início!B22 -> 7- Escreva na aba início o objetivo pessoais | C16: 8 | D16: 16
B17: =Início!B23 -> 8- Escreva na aba início o objetivo pessoais | C17: 9 | D17: 18

Sheet Avaliação 1º Trimestre
D3: Plano Pessoal de Formação (PPF)
D4: =Início!C4 -> 1º Trimestre
B5: =Início!B6 -> Reuniões e avaliações | D5: =Início!C5 -> Mês1 | E5: =Início!D5 -> Mês 2 | F5: =Início!E5 -> Mês 3
B6: =Início!B7 -> Reuniões de planejamento
B7: =Início!B8 -> Avaliação 1º trimestre
B8: =Início!B12 -> Objetivos da UEL | C8: Ações | D8: Detalhamento das ações mensais
B9: =Início!B13 -> 1- Escreva na aba início o objetivo da UEL | C9: =Início!C13 -> 0
B10: =Início!B14 -> 2- Escreva na aba início o objetivo da UEL | C10: =Início!C14 -> 0
B11: =Início!B15 -> 3- Escreva na aba início o objetivo da UEL | C11: =Início!C15 -> 0
B12: =CONCATENATE("Seus comentários: ",Identificação!$C$6) -> Seus comentários: Digite seu nome na aba de identificação
B14: =CONCATENATE("Comentários do APF: ",Identificação!$C$15) -> Comentários do APF: Digite o nome do seu APF na aba de identificação
B16: =Início!B16 -> Competências a desenvolver | C16: Ações | D16: Detalhamento das ações mensais
B17: =Início!B17 -> 3- Escreva na aba início a Competência a desenvolver | C17: =Início!C17 -> 0
B18: =Início!B18 -> 4- Escreva na aba início a Competência a desenvolver | C18: =Início!C18 -> 0
B19: =Início!B19 -> 5- Escreva na aba início a Competência a desenvolver | C19: =Início!C19 -> 0
B20: =CONCATENATE("Seus comentários: ",Identificação!$C$6) -> Seus comentários: Digite seu nome na aba de identificação
B22: =CONCATENATE("Comentários do APF: ",Identificação!$C$15) -> Comentários do APF: Digite o nome do seu APF na aba de identificação
B24: =Início!B20 -> Objetivos Pessoais | C24: Ações | D24: Detalhamento das ações mensais
B25: =Início!B21 -> 6- Escreva na aba início o objetivo pessoais | C25: =Início!C21 -> 0
B26: =Início!B22 -> 7- Escreva na aba início o objetivo pessoais | C26: =Início!C22 -> 0
B27: =Início!B23 -> 8- Escreva na aba início o objetivo pessoais | C27: =Início!C23 -> 0
B28: =CONCATENATE("Seus comentários: ",Identificação!$C$6) -> Seus comentários: Digite seu nome na aba de identificação
B30: =CONCATENATE("Comentários do APF: ",Identificação!$C$15) -> Comentários do APF: Digite o nome do seu APF na aba de identificação

Sheet Avaliação 2º Trimestre 
D3: Plano Pessoal de Formação (PPF)
D4: =Início!F4 -> 2º Trimestre
B5: =Início!B6 -> Reuniões e avaliações | D5: =Início!F5 -> Mês 4 | E5: =Início!G5 -> Mês 5 | F5: =Início!H5 -> Mês 6
B6: =Início!B7 -> Reuniões de planejamento
B7: =Início!B8 -> Avaliação 1º trimestre
B8: ='Avaliação 1º Trimestre'!B8 -> Objetivos da UEL | C8: ='Avaliação 1º Trimestre'!C8 -> Ações | D8: ='Avaliação 1º Trimestre'!D8:F8 -> Detalhamento das ações mensais
B9: =Início!B13 -> 1- Escreva na aba início o objetivo da UEL | C9: =Início!F13 -> 0
B10: =Início!B14 -> 2- Escreva na aba início o objetivo da UEL | C10: =Início!F14 -> 0
B11: =Início!B15 -> 3- Escreva na aba início o objetivo da UEL | C11: =Início!F15 -> 0
B12: =CONCATENATE("Seus comentários: ",Identificação!$C$6) -> Seus comentários: Digite seu nome na aba de identificação
B14: =CONCATENATE("Comentários do APF: ",Identificação!$C$15) -> Comentários do APF: Digite o nome do seu APF na aba de identificação
B16: ='Avaliação 1º Trimestre'!B16 -> Competências a desenvolver | C16: Ações | D16: Detalhamento das ações mensais
B17: =Início!B17 -> 3- Escreva na aba início a Competência a desenvolver | C17: =Início!F17 -> 0
B18: =Início!B18 -> 4- Escreva na aba início a Competência a desenvolver | C18: =Início!F18 -> 0
B19: =Início!B19 -> 5- Escreva na aba início a Competência a desenvolver | C19: =Início!F19 -> 0
B20: =CONCATENATE("Seus comentários: ",Identificação!$C$6) -> Seus comentários: Digite seu nome na aba de identificação
B22: =CONCATENATE("Comentários do APF: ",Identificação!$C$15) -> Comentários do APF: Digite o nome do seu APF na aba de identificação
B24: ='Avaliação 1º Trimestre'!B24 -> Objetivos Pessoais | C24: Ações | D24: Detalhamento das ações mensais
B25: =Início!B21 -> 6- Escreva na aba início o objetivo pessoais | C25: =Início!F21 -> 0
B26: =Início!B22 -> 7- Escreva na aba início o objetivo pessoais | C26: =Início!F22 -> 0
B27: =Início!B23 -> 8- Escreva na aba início o objetivo pessoais | C27: =Início!F23 -> 0
B28: =CONCATENATE("Seus comentários: ",Identificação!$C$6) -> Seus comentários: Digite seu nome na aba de identificação
B30: =CONCATENATE("Comentários do APF: ",Identificação!$C$15) -> Comentários do APF: Digite o nome do seu APF na aba de identificação

Sheet Avaliação 3º Trimestre
D3: Plano Pessoal de Formação (PPF)
D4: =Início!I4 -> 3º Trimestre
B5: =Início!B6 -> Reuniões e avaliações | D5: =Início!I5 -> Mês 7 | E5: =Início!J5 -> Mês 8 | F5: =Início!K5 -> Mês 9
B6: =Início!B7 -> Reuniões de planejamento
B7: =Início!B8 -> Avaliação 1º trimestre
B8: ='Avaliação 1º Trimestre'!B8 -> Objetivos da UEL | C8: ='Avaliação 1º Trimestre'!C8 -> Ações | D8: ='Avaliação 1º Trimestre'!D8:F8 -> Detalhamento das ações mensais
B9: =Início!B13 -> 1- Escreva na aba início o objetivo da UEL | C9: =Início!I13 -> 0
B10: =Início!B14 -> 2- Escreva na aba início o objetivo da UEL | C10: =Início!I14 -> 0
B11: =Início!B15 -> 3- Escreva na aba início o objetivo da UEL | C11: =Início!I15 -> 0
B12: =CONCATENATE("Seus comentários: ",Identificação!$C$6) -> Seus comentários: Digite seu nome na aba de identificação
B14: =CONCATENATE("Comentários do APF: ",Identificação!$C$15) -> Comentários do APF: Digite o nome do seu APF na aba de identificação
B16: ='Avaliação 1º Trimestre'!B16 -> Competências a desenvolver | C16: Ações | D16: Detalhamento das ações mensais
B17: =Início!B17 -> 3- Escreva na aba início a Competência a desenvolver | C17: =Início!I17 -> 0
B18: =Início!B18 -> 4- Escreva na aba início a Competência a desenvolver | C18: =Início!I18 -> 0
B19: =Início!B19 -> 5- Escreva na aba início a Competência a desenvolver | C19: =Início!I19 -> 0
B20: =CONCATENATE("Seus comentários: ",Identificação!$C$6) -> Seus comentários: Digite seu nome na aba de identificação
B22: =CONCATENATE("Comentários do APF: ",Identificação!$C$15) -> Comentários do APF: Digite o nome do seu APF na aba de identificação
B24: ='Avaliação 1º Trimestre'!B24 -> Objetivos Pessoais | C24: Ações | D24: Detalhamento das ações mensais
B25: =Início!B21 -> 6- Escreva na aba início o objetivo pessoais | C25: =Início!I21 -> 0
B26: =Início!B22 -> 7- Escreva na aba início o objetivo pessoais | C26: =Início!I22 -> 0
B27: =Início!B23 -> 8- Escreva na aba início o objetivo pessoais | C27: =Início!I23 -> 0
B28: =CONCATENATE("Seus comentários: ",Identificação!$C$6) -> Seus comentários: Digite seu nome na aba de identificação
B30: =CONCATENATE("Comentários do APF: ",Identificação!$C$15) -> Comentários do APF: Digite o nome do seu APF na aba de identificação

Sheet Avaliação 4º Trimestre
D3: Plano Pessoal de Formação (PPF)
D4: =Início!L4 -> 4º Trimestre
B5: =Início!B6 -> Reuniões e avaliações | D5: =Início!L5 -> Mês 10 | E5: =Início!M5 -> Mês 11 | F5: =Início!N5 -> Mês 12
B6: =Início!B7 -> Reuniões de planejamento
B7: =Início!B8 -> Avaliação 1º trimestre
B8: ='Avaliação 1º Trimestre'!B8 -> Objetivos da UEL | C8: ='Avaliação 1º Trimestre'!C8 -> Ações | D8: ='Avaliação 1º Trimestre'!D8:F8 -> Detalhamento das ações mensais
B9: =Início!B13 -> 1- Escreva na aba início o objetivo da UEL | C9: =Início!L13 -> 0
B10: =Início!B14 -> 2- Escreva na aba início o objetivo da UEL | C10: =Início!L14 -> 0
B11: =Início!B15 -> 3- Escreva na aba início o objetivo da UEL | C11: =Início!L15 -> 0
B12: =CONCATENATE("Seus comentários: ",Identificação!$C$6) -> Seus comentários: Digite seu nome na aba de identificação
B14: =CONCATENATE("Comentários do APF: ",Identificação!$C$15) -> Comentários do APF: Digite o nome do seu APF na aba de identificação
B16: ='Avaliação 1º Trimestre'!B16 -> Competências a desenvolver | C16: Ações | D16: Detalhamento das ações mensais
B17: =Início!B17 -> 3- Escreva na aba início a Competência a desenvolver | C17: =Início!L17 -> 0
B18: =Início!B18 -> 4- Escreva na aba início a Competência a desenvolver | C18: =Início!L18 -> 0
B19: =Início!B19 -> 5- Escreva na aba início a Competência a desenvolver | C19: =Início!L19 -> 0
B20: =CONCATENATE("Seus comentários: ",Identificação!$C$6) -> Seus comentários: Digite seu nome na aba de identificação
B22: =CONCATENATE("Comentários do APF: ",Identificação!$C$15) -> Comentários do APF: Digite o nome do seu APF na aba de identificação
B24: ='Avaliação 1º Trimestre'!B24 -> Objetivos Pessoais | C24: Ações | D24: Detalhamento das ações mensais
B25: =Início!B21 -> 6- Escreva na aba início o objetivo pessoais | C25: =Início!L21 -> 0
B26: =Início!B22 -> 7- Escreva na aba início o objetivo pessoais | C26: =Início!L22 -> 0
B27: =Início!B23 -> 8- Escreva na aba início o objetivo pessoais | C27: =Início!L23 -> 0
B28: =CONCATENATE("Seus comentários: ",Identificação!$C$6) -> Seus comentários: Digite seu nome na aba de identificação
B30: =CONCATENATE("Comentários do APF: ",Identificação!$C$15) -> Comentários do APF: Digite o nome do seu APF na aba de identificação
